BEGIN:VCALENDAR
PRODID:-//eluceo/ical//2.0/EN
VERSION:2.0
CALSCALE:GREGORIAN
BEGIN:VEVENT
UID:b9c62ee9beeb94bd86c517b0a3421ba9
DTSTAMP:20260420T195553Z
SUMMARY:Ríkisútvarpið. Fortíð\, nútíð og framtíð
DESCRIPTION:
URL:https://gordum.rotary1360.is/is/agenda/show/2528
DTSTART;TZID=Iceland:20210111T120500
DTEND;TZID=Iceland:20210111T131500
LOCATION:Til bráðabirgða: á netinu\nRánargrund 4\n210 Garðabær\nHlek
 kurinn á ZOOM er: https://zoom.us/j/94898389679
CATEGORIES:Rotary
END:VEVENT
BEGIN:VTIMEZONE
TZID:Iceland
BEGIN:STANDARD
DTSTART:20210111T120500
TZNAME:GMT
TZOFFSETTO:+0000
TZOFFSETFROM:+0000
END:STANDARD
END:VTIMEZONE
END:VCALENDAR
